BEGIN:VCALENDAR
VERSION:2.0
PRODID:-//PYVOBJECT//NONSGML Version 0.9.9//EN
X-WR-TIMEZONE:Africa/Johannesburg
BEGIN:VTIMEZONE
TZID:Africa/Johannesburg
BEGIN:STANDARD
DTSTART:20000101T000000
RRULE:FREQ=YEARLY;BYMONTH=1
TZNAME:SAST
TZOFFSETFROM:+0200
TZOFFSETTO:+0200
END:STANDARD
END:VTIMEZONE
BEGIN:VEVENT
UID:20260423T111952Z - 78348@eos-content
DTSTART;TZID=Africa/Johannesburg:20260425T100000
DTEND;TZID=Africa/Johannesburg:20260425T160000
ATTENDEE:MAILTO:dakalor@realnet.co.za
DESCRIPTION:https://www.realnet.co.za/results/residential/for-sale/centurio
 n/midstream-heights/house/3039691/\n\nMidstream Heights\n\nDakalo Dzivhani
  (079 126 8197)
DTSTAMP:20260423T111952Z
LOCATION:Midstream Heights\, Centurion
SUMMARY:RealNet Show Day - RLS717752
END:VEVENT
END:VCALENDAR
