BEGIN:VCALENDAR
VERSION:2.0
PRODID:-//PYVOBJECT//NONSGML Version 0.9.9//EN
X-WR-TIMEZONE:Africa/Johannesburg
BEGIN:VTIMEZONE
TZID:Africa/Johannesburg
BEGIN:STANDARD
DTSTART:20000101T000000
RRULE:FREQ=YEARLY;BYMONTH=1
TZNAME:SAST
TZOFFSETFROM:+0200
TZOFFSETTO:+0200
END:STANDARD
END:VTIMEZONE
BEGIN:VEVENT
UID:20260422T220519Z - 17189@eos-content
DTSTART;TZID=Africa/Johannesburg:20260430T100000
DTEND;TZID=Africa/Johannesburg:20260430T160000
ATTENDEE:MAILTO:langavim@realnet.co.za
DESCRIPTION:https://www.realnet.co.za/results/residential/for-sale/midrand/
 olifantsfontein/house/3042948/\n\nContact Langavi for directions.\n\nLanga
 vi Mathebula (061 120 1266)
DTSTAMP:20260422T220519Z
LOCATION:Olifantsfontein\, Midrand
SUMMARY:RealNet Show Day - RLS718359
END:VEVENT
END:VCALENDAR
