BEGIN:VCALENDAR
VERSION:2.0
PRODID:-//PYVOBJECT//NONSGML Version 0.9.9//EN
X-WR-TIMEZONE:Africa/Johannesburg
BEGIN:VTIMEZONE
TZID:Africa/Johannesburg
BEGIN:STANDARD
DTSTART:20000101T000000
RRULE:FREQ=YEARLY;BYMONTH=1
TZNAME:SAST
TZOFFSETFROM:+0200
TZOFFSETTO:+0200
END:STANDARD
END:VTIMEZONE
BEGIN:VEVENT
UID:20260421T035941Z - 65466@eos-content
DTSTART;TZID=Africa/Johannesburg:20260422T110000
DTEND;TZID=Africa/Johannesburg:20260422T160000
ATTENDEE:MAILTO:granny.mohapi@realnet.co.za
DESCRIPTION:https://www.realnet.co.za/results/residential/for-sale/rustenbu
 rg/tlhabane-west/house/3048004/\n\nViewing on Appointment Only\n\nGranny M
 ohapi (071 706 8565)
DTSTAMP:20260421T035941Z
LOCATION:Tlhabane West\, Rustenburg
SUMMARY:RealNet Show Day - RLS718535
END:VEVENT
END:VCALENDAR
