BEGIN:VCALENDAR
VERSION:2.0
PRODID:-//PYVOBJECT//NONSGML Version 0.9.9//EN
X-WR-TIMEZONE:Africa/Johannesburg
BEGIN:VTIMEZONE
TZID:Africa/Johannesburg
BEGIN:STANDARD
DTSTART:20000101T000000
RRULE:FREQ=YEARLY;BYMONTH=1
TZNAME:SAST
TZOFFSETFROM:+0200
TZOFFSETTO:+0200
END:STANDARD
END:VTIMEZONE
BEGIN:VEVENT
UID:20260423T112251Z - 68234@eos-content
DTSTART;TZID=Africa/Johannesburg:20260425T110000
DTEND;TZID=Africa/Johannesburg:20260425T160000
ATTENDEE:MAILTO:granny.mohapi@realnet.co.za
DESCRIPTION:https://www.realnet.co.za/results/residential/for-sale/mogwase/
 mogwase-unit-4/house/3125489/\n\nVIEWING ON APPOINTMENT ONLY - CALL AN AGE
 NT NOW\n\nGranny Mohapi (071 706 8565)
DTSTAMP:20260423T112251Z
LOCATION:Mogwase Unit 4\, Mogwase
SUMMARY:RealNet Show Day - RLS735363
END:VEVENT
END:VCALENDAR
