BEGIN:VCALENDAR
VERSION:2.0
PRODID:-//PYVOBJECT//NONSGML Version 0.9.9//EN
X-WR-TIMEZONE:Africa/Johannesburg
BEGIN:VTIMEZONE
TZID:Africa/Johannesburg
BEGIN:STANDARD
DTSTART:20000101T000000
RRULE:FREQ=YEARLY;BYMONTH=1
TZNAME:SAST
TZOFFSETFROM:+0200
TZOFFSETTO:+0200
END:STANDARD
END:VTIMEZONE
BEGIN:VEVENT
UID:20260423T130001Z - 2109@eos-content
DTSTART;TZID=Africa/Johannesburg:20260502T120000
DTEND;TZID=Africa/Johannesburg:20260502T140000
ATTENDEE:MAILTO:chantalles@realnet.co.za
DESCRIPTION:https://www.realnet.co.za/results/residential/for-sale/centurio
 n/midlands-estate/house/3150146/\n\ncall to book viewing\n\nChantalle Sene
 kal (076 610 5324)
DTSTAMP:20260423T130001Z
LOCATION:Midlands Estate\, Centurion
SUMMARY:RealNet Show Day - RLS740793
END:VEVENT
END:VCALENDAR
