BEGIN:VCALENDAR
VERSION:2.0
PRODID:-//PYVOBJECT//NONSGML Version 0.9.9//EN
X-WR-TIMEZONE:Africa/Johannesburg
BEGIN:VTIMEZONE
TZID:Africa/Johannesburg
BEGIN:STANDARD
DTSTART:20000101T000000
RRULE:FREQ=YEARLY;BYMONTH=1
TZNAME:SAST
TZOFFSETFROM:+0200
TZOFFSETTO:+0200
END:STANDARD
END:VTIMEZONE
BEGIN:VEVENT
UID:20260424T125447Z - 32738@eos-content
DTSTART;TZID=Africa/Johannesburg:20260503T140000
DTEND;TZID=Africa/Johannesburg:20260503T170000
ATTENDEE:MAILTO:cindy.barnes@realnet.co.za
DESCRIPTION:https://www.realnet.co.za/results/residential/for-sale/durbanvi
 lle/durbanville-central/apartment/3151246/24-bethel-gardens-20-church-stre
 et/\n\nSituated at 20 Church street you will find the complex Bethel Garde
 ns in Durbanville Central\n\nCindy Barnes (084 512 7224)
DTSTAMP:20260424T125447Z
LOCATION:24 Bethel Gardens\, 20 Church Street\, Durbanville Central\, Durba
 nville
SUMMARY:RealNet Show Day - RLS740693
END:VEVENT
END:VCALENDAR
